BEGIN:VCALENDAR
PRODID:-//Pixl8//Eventfolio//EN
VERSION:2.0
X-WR-TIMEZONE:Europe/London
CALSCALE:GREGORIAN
METHOD:PUBLISH
CLASS:PUBLIC
BEGIN:VTIMEZONE
TZID:Europe/London
LAST-MODIFIED:20260306T231828Z
TZURL:https://www.tzurl.org/zoneinfo-outlook/Europe/London
X-LIC-LOCATION:Europe/London
BEGIN:DAYLIGHT
TZNAME:BST
TZOFFSETFROM:+0000
TZOFFSETTO:+0100
DTSTART:19700329T010000
RRULE:FREQ=YEARLY;BYMONTH=3;BYDAY=-1SU
END:DAYLIGHT
BEGIN:STANDARD
TZNAME:GMT
TZOFFSETFROM:+0100
TZOFFSETTO:+0000
DTSTART:19701025T020000
RRULE:FREQ=YEARLY;BYMONTH=10;BYDAY=-1SU
END:STANDARD
END:VTIMEZONE
BEGIN:VEVENT
DTSTART;TZID=Europe/London:20231130T170000
DTEND;TZID=Europe/London:20231130T190000
DTSTAMP:20260422T083502Z
UID:{080A3297-C58E-40DB-9900B1C36ED27989}
LOCATION:Tattersalls\, Newmarket\, Suffolk\, CB8 9BT\, UK
SUMMARY:TBA ACCESS FOAL FORUM
DESCRIPTION:A brand new FREE to attend event - TBA ACCESS Foal Forum, set to take place on Thursday 30 November, on the eve of the Tattersalls December Foal Sale.\n
 \n
 Event details: https://www.thetba.co.uk/latest/ems-event-calendar/tba-access-foal-forum.html
PRIORITY:1
END:VEVENT
END:VCALENDAR