BEGIN:VCALENDAR
PRODID:-//Pixl8//Eventfolio//EN
VERSION:2.0
X-WR-TIMEZONE:Europe/London
CALSCALE:GREGORIAN
METHOD:PUBLISH
CLASS:PUBLIC
BEGIN:VTIMEZONE
TZID:Europe/London
LAST-MODIFIED:20260306T231828Z
TZURL:https://www.tzurl.org/zoneinfo-outlook/Europe/London
X-LIC-LOCATION:Europe/London
BEGIN:DAYLIGHT
TZNAME:BST
TZOFFSETFROM:+0000
TZOFFSETTO:+0100
DTSTART:19700329T010000
RRULE:FREQ=YEARLY;BYMONTH=3;BYDAY=-1SU
END:DAYLIGHT
BEGIN:STANDARD
TZNAME:GMT
TZOFFSETFROM:+0100
TZOFFSETTO:+0000
DTSTART:19701025T020000
RRULE:FREQ=YEARLY;BYMONTH=10;BYDAY=-1SU
END:STANDARD
END:VTIMEZONE
BEGIN:VEVENT
DTSTART;TZID=Europe/London;VALUE=DATE:20260708
DTEND;TZID=Europe/London;VALUE=DATE:20260709
DTSTAMP:20260425T172429Z
UID:{E5492A43-E3BA-4D68-971AF711E79E97D7}
LOCATION:Chippenham Park \, Chippenham Hall\, Chippenham Park\, Newmarket CB7 5PT
SUMMARY:Flat Breeders' Awards 2026
DESCRIPTION:Event details: https://www.thetba.co.uk/latest/ems-event-calendar/flat-breeders-awards-2026.html
PRIORITY:1
END:VEVENT
END:VCALENDAR